BEGIN:VCALENDAR
VERSION:2.0
PRODID:-//Tahoe Onstage | Lake Tahoe music concerts and sports - ECPv6.15.20//NONSGML v1.0//EN
CALSCALE:GREGORIAN
METHOD:PUBLISH
X-ORIGINAL-URL:https://tahoeonstage.com
X-WR-CALDESC:Events for Tahoe Onstage | Lake Tahoe music concerts and sports
REFRESH-INTERVAL;VALUE=DURATION:PT1H
X-Robots-Tag:noindex
X-PUBLISHED-TTL:PT1H
BEGIN:VTIMEZONE
TZID:America/Los_Angeles
BEGIN:DAYLIGHT
TZOFFSETFROM:-0800
TZOFFSETTO:-0700
TZNAME:PDT
DTSTART:20220313T100000
END:DAYLIGHT
BEGIN:STANDARD
TZOFFSETFROM:-0700
TZOFFSETTO:-0800
TZNAME:PST
DTSTART:20221106T090000
END:STANDARD
BEGIN:DAYLIGHT
TZOFFSETFROM:-0800
TZOFFSETTO:-0700
TZNAME:PDT
DTSTART:20230312T100000
END:DAYLIGHT
BEGIN:STANDARD
TZOFFSETFROM:-0700
TZOFFSETTO:-0800
TZNAME:PST
DTSTART:20231105T090000
END:STANDARD
BEGIN:DAYLIGHT
TZOFFSETFROM:-0800
TZOFFSETTO:-0700
TZNAME:PDT
DTSTART:20240310T100000
END:DAYLIGHT
BEGIN:STANDARD
TZOFFSETFROM:-0700
TZOFFSETTO:-0800
TZNAME:PST
DTSTART:20241103T090000
END:STANDARD
END:VTIMEZONE
BEGIN:VEVENT
DTSTART;TZID=America/Los_Angeles:20230404T200000
DTEND;TZID=America/Los_Angeles:20230404T233000
DTSTAMP:20260420T143319
CREATED:20230120T200237Z
LAST-MODIFIED:20230210T210926Z
UID:87135-1680638400-1680651000@tahoeonstage.com
SUMMARY:Buddy Emmer's Tuesday Night Blues
DESCRIPTION:The longest-running blues residency in Northern Nevada\, Buddy Emmer’s Tuesday Night Blues is held weekley at Harrah’s Lake Tahoe Center Stage from 8-11 p.m. There’s no cover charge. The Buddy Emmer Blues Band featuring singer Kim Emmer opens the show\, followed by two sets with a featured guest. The lists of blues player who have appeared is impressive: Kyle Rowland\, Mighty Mike Schermer\, Chris Cain\, Johnny Burgin\, Terry Hanck\, Daniel Castro\, Steve Freund\, Nancy Wright\, Tony Ghiglieri\, Chuck Dunn\, Jason King\, Miles Schon\, Andy Santana\, Todd Morgan\, Snakeboy Johnson\, Shane Dwight\, Mark Wilson\, Matty T\, Laurie Morvan\, Mike Clarke\, Alvon Johnson\, Jeramy Norris\, Richie Blue\, Mark Hummel and Kid Andersen.
URL:https://tahoeonstage.com/lake-tahoe-reno-event/buddy-emmers-tuesday-night-blues/
LOCATION:Harrah’s Lake Tahoe\, 14 U.S. Highway 50\, Stateline\, NV
ATTACH;FMTTYPE=image/jpeg:https://tahoeonstage.com/wp-content/uploads/2021/07/Buddy-black-and-white.jpg
END:VEVENT
BEGIN:VEVENT
DTSTART;TZID=America/Los_Angeles:20230411T200000
DTEND;TZID=America/Los_Angeles:20230411T233000
DTSTAMP:20260420T143319
CREATED:20230120T200237Z
LAST-MODIFIED:20230120T200237Z
UID:87236-1681243200-1681255800@tahoeonstage.com
SUMMARY:Buddy Emmer's Tuesday Night Blues
DESCRIPTION:The longest-running blues residency in Northern Nevada\, Buddy Emmer’s Tuesday Night Blues is held weekley at Harrah’s Lake Tahoe Center Stage from 8-11 p.m. There’s no cover charge. The Buddy Emmer Blues Band featuring singer Kim Emmer opens the show\, followed by two sets with a featured guest. The lists of blues player who have appeared is impressive: Kyle Rowland\, Mighty Mike Schermer\, Chris Cain\, Johnny Burgin\, Terry Hanck\, Daniel Castro\, Steve Freund\, Nancy Wright\, Tony Ghiglieri\, Chuck Dunn\, Jason King\, Miles Schon\, Andy Santana\, Todd Morgan\, Snakeboy Johnson\, Shane Dwight\, Mark Wilson\, Matty T\, Laurie Morvan\, Mike Clarke\, Alvon Johnson\, Jeramy Norris\, Richie Blue\, Mark Hummel and Kid Andersen.
URL:https://tahoeonstage.com/lake-tahoe-reno-event/buddy-emmers-tuesday-night-blues-2023-04-11/
LOCATION:Harrah’s Lake Tahoe\, 14 U.S. Highway 50\, Stateline\, NV
ATTACH;FMTTYPE=image/jpeg:https://tahoeonstage.com/wp-content/uploads/2021/07/Buddy-black-and-white.jpg
END:VEVENT
BEGIN:VEVENT
DTSTART;TZID=America/Los_Angeles:20230418T200000
DTEND;TZID=America/Los_Angeles:20230418T233000
DTSTAMP:20260420T143319
CREATED:20230120T200237Z
LAST-MODIFIED:20230120T200237Z
UID:87237-1681848000-1681860600@tahoeonstage.com
SUMMARY:Buddy Emmer's Tuesday Night Blues
DESCRIPTION:The longest-running blues residency in Northern Nevada\, Buddy Emmer’s Tuesday Night Blues is held weekley at Harrah’s Lake Tahoe Center Stage from 8-11 p.m. There’s no cover charge. The Buddy Emmer Blues Band featuring singer Kim Emmer opens the show\, followed by two sets with a featured guest. The lists of blues player who have appeared is impressive: Kyle Rowland\, Mighty Mike Schermer\, Chris Cain\, Johnny Burgin\, Terry Hanck\, Daniel Castro\, Steve Freund\, Nancy Wright\, Tony Ghiglieri\, Chuck Dunn\, Jason King\, Miles Schon\, Andy Santana\, Todd Morgan\, Snakeboy Johnson\, Shane Dwight\, Mark Wilson\, Matty T\, Laurie Morvan\, Mike Clarke\, Alvon Johnson\, Jeramy Norris\, Richie Blue\, Mark Hummel and Kid Andersen.
URL:https://tahoeonstage.com/lake-tahoe-reno-event/buddy-emmers-tuesday-night-blues-2023-04-18/
LOCATION:Harrah’s Lake Tahoe\, 14 U.S. Highway 50\, Stateline\, NV
ATTACH;FMTTYPE=image/jpeg:https://tahoeonstage.com/wp-content/uploads/2021/07/Buddy-black-and-white.jpg
END:VEVENT
BEGIN:VEVENT
DTSTART;TZID=America/Los_Angeles:20230421T200000
DTEND;TZID=America/Los_Angeles:20230421T220000
DTSTAMP:20260420T143319
CREATED:20230215T235012Z
LAST-MODIFIED:20230215T235012Z
UID:87281-1682107200-1682114400@tahoeonstage.com
SUMMARY:Coco Montoya
DESCRIPTION:Coco Montoya plays Sutter Creek Theatre on Friday\, April 21. \nDoors 7 pm\, show 8 pm. Open seating\, beer and wine available. $30 Advance\, $35 Day of Show. \nBetween his white-hot guitar playing and his soulful\, emotional vocals\, Coco Montoya has talent to burn. In a career that spans almost four decades\, he’s gone from drumming for blues icon Albert Collins to holding the lead guitar spot in John Mayall’s Bluesbreakers to leading his own band and touring worldwide. Montoya is revered for his ability to move from subtly melodic guitar playing to slash-and-burn pyrotechnics. Equally forceful are his deep\, soul-baring vocals. Years of constant touring\, playing unforgettable shows at clubs\, concert halls and festivals\, have earned him his position at the top of the contemporary blues world. And it all started with a chance meeting in the mid-1970s with legendary bluesman Albert Collins\, who offered Montoya a spot in his band\, where he stayed for the next five years. Coco was initially hired as Collins’ drummer and later—with Albert mentoring him on the guitar—became the band’s rhythm guitarist. A few years after leaving Collins’ band\, British blues star John Mayall heard Coco jamming onstage and was so impressed that he hired him for the newly reformed Bluesbreakers. \nMontoya earned his status as a master guitarist and soul-powered vocalist through years of paying his dues as a sideman with Albert Collins (first as a drummer) and then as a featured guitarist with John Mayall’s Bluesbreakers\, before launching his solo career in 1993. Five years of constant touring with Collins and ten years with Mayall turned him into a monster player and dynamic performer. Montoya has released solo albums to great critical and popular acclaim\, and has played at clubs\, concert halls and major festivals all over the world. Guitar Player says Montoya plays “stunning\, powerhouse blues with a searing tone\, emotional soloing\, and energetic\, unforced vocals.” \nStill an indefatigable road warrior\, Montoya continues to pack clubs and theaters around the world\, and brings festival audiences to their feet from New York to New Orleans to Chicago to San Francisco. Across the globe\, he’s performed in countries including Australia\, Belgium\, Switzerland\, Germany\, Norway\, England\, Brazil\, Argentina\, Spain\, Mexico\, Ecuador\, Italy\, Poland\, Russia\, Czech Republic and Canada. Vintage Guitar says\, “Coco just keeps getting better and better…rockin’ blues with guitar that cuts straight to the heart of the matter. His guitar playing is funky and blistering; it’s perfect. Whatever he plays\, he does it with fire and passion rarely seen in this day and age.” \nThe award winning historic Sutter Creek Theatre is an intimate 215 seat former silent film theatre with superb sound. Voted Best Indie Theatre multiple times (KCRA A-List). \n 
URL:https://tahoeonstage.com/lake-tahoe-reno-event/coco-montoya-2/
LOCATION:Sutter Creek Theatre\, 44 Main Street\, Sutter Creek\, California
ATTACH;FMTTYPE=image/jpeg:https://tahoeonstage.com/wp-content/uploads/2019/04/4-Coco-Montoya-@-Montbleu-South-Lake-Tahoe-4-12-2019-80-X2.jpg
END:VEVENT
BEGIN:VEVENT
DTSTART;TZID=America/Los_Angeles:20230425T200000
DTEND;TZID=America/Los_Angeles:20230425T233000
DTSTAMP:20260420T143319
CREATED:20230120T200237Z
LAST-MODIFIED:20230120T200237Z
UID:87238-1682452800-1682465400@tahoeonstage.com
SUMMARY:Buddy Emmer's Tuesday Night Blues
DESCRIPTION:The longest-running blues residency in Northern Nevada\, Buddy Emmer’s Tuesday Night Blues is held weekley at Harrah’s Lake Tahoe Center Stage from 8-11 p.m. There’s no cover charge. The Buddy Emmer Blues Band featuring singer Kim Emmer opens the show\, followed by two sets with a featured guest. The lists of blues player who have appeared is impressive: Kyle Rowland\, Mighty Mike Schermer\, Chris Cain\, Johnny Burgin\, Terry Hanck\, Daniel Castro\, Steve Freund\, Nancy Wright\, Tony Ghiglieri\, Chuck Dunn\, Jason King\, Miles Schon\, Andy Santana\, Todd Morgan\, Snakeboy Johnson\, Shane Dwight\, Mark Wilson\, Matty T\, Laurie Morvan\, Mike Clarke\, Alvon Johnson\, Jeramy Norris\, Richie Blue\, Mark Hummel and Kid Andersen.
URL:https://tahoeonstage.com/lake-tahoe-reno-event/buddy-emmers-tuesday-night-blues-2023-04-25/
LOCATION:Harrah’s Lake Tahoe\, 14 U.S. Highway 50\, Stateline\, NV
ATTACH;FMTTYPE=image/jpeg:https://tahoeonstage.com/wp-content/uploads/2021/07/Buddy-black-and-white.jpg
END:VEVENT
BEGIN:VEVENT
DTSTART;TZID=America/Los_Angeles:20230426T200000
DTEND;TZID=America/Los_Angeles:20230426T230000
DTSTAMP:20260420T143319
CREATED:20230120T213442Z
LAST-MODIFIED:20230120T213927Z
UID:87196-1682539200-1682550000@tahoeonstage.com
SUMMARY:Nikki Lane in Sacramento
DESCRIPTION:Country favorite Nikki Lane plays Harlow’s in Sacramento at 8 p.m. Wednesday\, April 26. Leroy from the North opens. Cover: $25.
URL:https://tahoeonstage.com/lake-tahoe-reno-event/nikki-lane-in-sacramento/
LOCATION:Harlow’s\, 2708 J Street\, Sacramento\, California
ATTACH;FMTTYPE=image/jpeg:https://tahoeonstage.com/wp-content/uploads/2019/10/Nikki-Lane-BW-620.jpg
END:VEVENT
END:VCALENDAR