BEGIN:VCALENDAR
VERSION:2.0
PRODID:-//Tahoe Onstage | Lake Tahoe music concerts and sports - ECPv6.15.20//NONSGML v1.0//EN
CALSCALE:GREGORIAN
METHOD:PUBLISH
X-WR-CALNAME:Tahoe Onstage | Lake Tahoe music concerts and sports
X-ORIGINAL-URL:https://tahoeonstage.com
X-WR-CALDESC:Events for Tahoe Onstage | Lake Tahoe music concerts and sports
REFRESH-INTERVAL;VALUE=DURATION:PT1H
X-Robots-Tag:noindex
X-PUBLISHED-TTL:PT1H
BEGIN:VTIMEZONE
TZID:America/Los_Angeles
BEGIN:DAYLIGHT
TZOFFSETFROM:-0800
TZOFFSETTO:-0700
TZNAME:PDT
DTSTART:20210314T100000
END:DAYLIGHT
BEGIN:STANDARD
TZOFFSETFROM:-0700
TZOFFSETTO:-0800
TZNAME:PST
DTSTART:20211107T090000
END:STANDARD
BEGIN:DAYLIGHT
TZOFFSETFROM:-0800
TZOFFSETTO:-0700
TZNAME:PDT
DTSTART:20220313T100000
END:DAYLIGHT
BEGIN:STANDARD
TZOFFSETFROM:-0700
TZOFFSETTO:-0800
TZNAME:PST
DTSTART:20221106T090000
END:STANDARD
BEGIN:DAYLIGHT
TZOFFSETFROM:-0800
TZOFFSETTO:-0700
TZNAME:PDT
DTSTART:20230312T100000
END:DAYLIGHT
BEGIN:STANDARD
TZOFFSETFROM:-0700
TZOFFSETTO:-0800
TZNAME:PST
DTSTART:20231105T090000
END:STANDARD
BEGIN:DAYLIGHT
TZOFFSETFROM:-0800
TZOFFSETTO:-0700
TZNAME:PDT
DTSTART:20240310T100000
END:DAYLIGHT
BEGIN:STANDARD
TZOFFSETFROM:-0700
TZOFFSETTO:-0800
TZNAME:PST
DTSTART:20241103T090000
END:STANDARD
END:VTIMEZONE
BEGIN:VEVENT
DTSTART;TZID=America/Los_Angeles:20230205T150000
DTEND;TZID=America/Los_Angeles:20230205T173000
DTSTAMP:20260420T165919
CREATED:20230120T211556Z
LAST-MODIFIED:20230120T211639Z
UID:87193-1675609200-1675618200@tahoeonstage.com
SUMMARY:Blues Sundays: AC Myles
DESCRIPTION:AC Myles plays Blues Sundays at 3 p.m. at Powerhouse Pub in Folsom. Cover: $10 \nPress: \nThe only son of production workers\, Myles grew up in the migrant worker neighborhoods of Central California\, spending his later teens and twenties touring with his own band. Finding his way to the San Francisco Bay Area & Los Angeles\, he played sideman to an array of acts and begun touring nationally and internationally. \nThe albums instrumentals ‘Sonder City’\, ‘Tunnel’\, & ‘Dirty Dark’ cross the spectrum of slick\, melodic\, big city guitar lines\, heavy riffs and electronic bass and drums. With “Transitory\,” Myles also brilliantly displays his songwriting abilities\, which crossover as effortlessly as some larger drawing acts wish to. \nThe catchy pop rock ‘Moment Match Flash’\, ‘3 Ways to Fall’ and southern rock slide guitar and radio ready chorus of ‘Other Side’\, reinforce that AC Myles is one of those performers\, that once seen and heard\, you never forget.
URL:https://tahoeonstage.com/lake-tahoe-reno-event/blues-sundays-ac-myles/
LOCATION:Powerhoue Pub\, 614 Sutter Street\, Folsom\, California\, 95630
ATTACH;FMTTYPE=image/jpeg:https://tahoeonstage.com/wp-content/uploads/2017/05/AC-Myles.jpg
END:VEVENT
BEGIN:VEVENT
DTSTART;TZID=America/Los_Angeles:20230129T150000
DTEND;TZID=America/Los_Angeles:20230129T173000
DTSTAMP:20260420T165919
CREATED:20230120T211141Z
LAST-MODIFIED:20230120T211208Z
UID:87191-1675004400-1675013400@tahoeonstage.com
SUMMARY:Blues Sundays: Laurie Morvan
DESCRIPTION:Laurie Morvan plays Blues Sundays at 3 p.m. in the Powerhouse Pub in Folsom\, California.
URL:https://tahoeonstage.com/lake-tahoe-reno-event/blues-sundays-laurie-morvan/
LOCATION:Powerhoue Pub\, 614 Sutter Street\, Folsom\, California\, 95630
ATTACH;FMTTYPE=image/jpeg:https://tahoeonstage.com/wp-content/uploads/2022/07/Laurie-Morvan-Band-small.jpg
END:VEVENT
BEGIN:VEVENT
DTSTART;TZID=America/Los_Angeles:20230122T150000
DTEND;TZID=America/Los_Angeles:20230122T173000
DTSTAMP:20260420T165919
CREATED:20230120T210705Z
LAST-MODIFIED:20230120T210816Z
UID:87187-1674399600-1674408600@tahoeonstage.com
SUMMARY:Blues Sundays: Daniel Castro
DESCRIPTION:Daniel Castro plays the Powerhouse Pub in Folsom\, California\, at 3 p.m. Sunday\, Jan. 22. Cover $10.\nPress: \n\nDescribing Daniel Castro as a blues artist doesn’t begin to tell the whole story. A highly accomplished \nguitarist and singer/songwriter with a strong musical point of view grounded in the very best blues traditions is more like it. Combine those talents with original blues-based material and you begin to understand Daniel’s strengths as an artist. \nWell-known for being a dynamic performer who “leaves it all on the stage” night after night\, Daniel brings crowds to their feet with his blistering solos\, soulful singing\, and tight arrangements. Daniel has always played with seasoned musicians\, but with his newest incarnation\, the Daniel Castro Band raises the bar and is truly a force to be reckoned with.
URL:https://tahoeonstage.com/lake-tahoe-reno-event/daniel-castro-2/
LOCATION:Powerhoue Pub\, 614 Sutter Street\, Folsom\, California\, 95630
ATTACH;FMTTYPE=image/jpeg:https://tahoeonstage.com/wp-content/uploads/2016/04/The-Buddy-Emmer-Band-with-Danial-Castro-at-Harrahs-Tahoe-04-19-2016-369-L.jpg
END:VEVENT
BEGIN:VEVENT
DTSTART;TZID=America/Los_Angeles:20221231T220000
DTEND;TZID=America/Los_Angeles:20221231T235900
DTSTAMP:20260420T165919
CREATED:20220511T181410Z
LAST-MODIFIED:20220511T233437Z
UID:84897-1672524000-1672531140@tahoeonstage.com
SUMMARY:Jelly Bread at T-Bar Social Club in June Lake
DESCRIPTION:Jelly Bread plays a New Year’s Eve celebration show at the T-Bar Social Club on Saturday\, Dec. 31. Cover: $40.
URL:https://tahoeonstage.com/lake-tahoe-reno-event/jelly-bread-13/
LOCATION:T-Bar Social Club\, 2588 CA 158\, June Lake\, 93529
ATTACH;FMTTYPE=image/jpeg:https://tahoeonstage.com/wp-content/uploads/2022/05/Jelly-Bread.jpg
END:VEVENT
BEGIN:VEVENT
DTSTART;TZID=America/Los_Angeles:20221231T210000
DTEND;TZID=America/Los_Angeles:20221231T235900
DTSTAMP:20260420T165919
CREATED:20221123T205305Z
LAST-MODIFIED:20221123T205340Z
UID:87037-1672520400-1672531140@tahoeonstage.com
SUMMARY:Blu Egyptian
DESCRIPTION:Blu Egyptian plays New Year’s Eve at Alibi Ale Works – Truckee Public House. This show will consist of two sets of Blü with a set of their favorite Jamiriqoui songs and a hype New Year’s countdown! $10 in advance or $15 cover.
URL:https://tahoeonstage.com/lake-tahoe-reno-event/blu-egyptian-5/
LOCATION:Alibi Ale Works – Truckee Public House\, 10069 Bridge Street\, Truckee\, California\, 96161
ATTACH;FMTTYPE=image/jpeg:https://tahoeonstage.com/wp-content/uploads/2022/01/Blu-Egyptian.jpg
END:VEVENT
BEGIN:VEVENT
DTSTART;TZID=America/Los_Angeles:20221231T200000
DTEND;TZID=America/Los_Angeles:20221231T235900
DTSTAMP:20260420T165919
CREATED:20221010T195010Z
LAST-MODIFIED:20221010T195203Z
UID:86898-1672516800-1672531140@tahoeonstage.com
SUMMARY:The Motet\, The Main Squeeze
DESCRIPTION:Celebrate New Year’s Eve in the Crystal Bay Casino’s Crown Room with The Motet and The Main Squeeze. Tickets are $50
URL:https://tahoeonstage.com/lake-tahoe-reno-event/the-motet-the-main-squeeze-2/
LOCATION:Crystal Bay Casino\, 14 State Highway 28\, Crystal Bay\, NV\, 89402\, United States
ATTACH;FMTTYPE=image/jpeg:https://tahoeonstage.com/wp-content/uploads/2022/10/Motet.jpg
END:VEVENT
BEGIN:VEVENT
DTSTART;TZID=America/Los_Angeles:20221230T210000
DTEND;TZID=America/Los_Angeles:20221230T230000
DTSTAMP:20260420T165919
CREATED:20220511T181111Z
LAST-MODIFIED:20220511T233513Z
UID:84895-1672434000-1672441200@tahoeonstage.com
SUMMARY:Jelly Bread Unplugged at June Lake
DESCRIPTION:Jelly Bread Unplugged\, a special acoustic show\, will be held on Friday\, Dec. 30\, in the T-Bar Social Club. The cover charge is $30.
URL:https://tahoeonstage.com/lake-tahoe-reno-event/jelly-bread-unplugged/
LOCATION:T-Bar Social Club\, 2588 CA 158\, June Lake\, 93529
ATTACH;FMTTYPE=image/jpeg:https://tahoeonstage.com/wp-content/uploads/2021/10/Cliff-and-Dave.jpg
END:VEVENT
BEGIN:VEVENT
DTSTART;TZID=America/Los_Angeles:20221230T200000
DTEND;TZID=America/Los_Angeles:20221230T235900
DTSTAMP:20260420T165919
CREATED:20221010T194809Z
LAST-MODIFIED:20221010T194809Z
UID:86895-1672430400-1672444740@tahoeonstage.com
SUMMARY:The Motet\, Royal Jelly Jive
DESCRIPTION:The Crystal Bay Casino closes out 2022 with a two-night run by The Motet. On Friday\, Dec. 30\, the opener is Royal Jelly Jive.
URL:https://tahoeonstage.com/lake-tahoe-reno-event/the-motet-royal-jelly-jive/
LOCATION:Crystal Bay Casino\, 14 State Highway 28\, Crystal Bay\, NV\, 89402\, United States
ATTACH;FMTTYPE=image/jpeg:https://tahoeonstage.com/wp-content/uploads/2022/10/Motet.jpg
END:VEVENT
BEGIN:VEVENT
DTSTART;TZID=America/Los_Angeles:20221218T180000
DTEND;TZID=America/Los_Angeles:20221218T200000
DTSTAMP:20260420T165919
CREATED:20221011T180326Z
LAST-MODIFIED:20221011T180326Z
UID:86930-1671386400-1671393600@tahoeonstage.com
SUMMARY:Sunday Jazz Jam Sessions
DESCRIPTION:Alibi Ale Works – Incline Public House couldn’t be more jazzed (ehh get it?) to bring you this new recurring event to Alibi Incline!\n⁠\nStarting this Sunday\, October 16\, Jazz Jam Sessions will bring students & pros into a fun & educational melting pot. All are welcome. No sign up required. Other styles are welcome but the focus will be on jazz & blues.⁠\n⁠\nVillage Music & rotating pros will host this event. Come grab a delicious Alibi beer\, a bite to eat\, & support the jazz players of today & tomorrow!⁠
URL:https://tahoeonstage.com/lake-tahoe-reno-event/sunday-jazz-jam-sessions-2022-12-18/
LOCATION:Alibi Ale Works Incline Village\, 931 Tahoe Blvd.\, Incline Village\, Nevada\, 89451
ATTACH;FMTTYPE=image/png:https://tahoeonstage.com/wp-content/uploads/2022/10/IG-Posts-12.png
END:VEVENT
BEGIN:VEVENT
DTSTART;TZID=America/Los_Angeles:20221217T210000
DTEND;TZID=America/Los_Angeles:20221217T233000
DTSTAMP:20260420T165919
CREATED:20221214T214708Z
LAST-MODIFIED:20221214T214738Z
UID:87095-1671310800-1671319800@tahoeonstage.com
SUMMARY:Metal Echo's Nightmare Before Christmas - Alibi Truckee
DESCRIPTION:Is it Halloweentown\, Christmastown or Alibi Truckee? Come celebrate Alibi’ Ale Works – Truckee Public House 8th Anniversary Party with a Nightmare Before Christmas-themed rock show\, featuring the hardest rockers in the region\, Metal Echo!  Dark\, whimsical\, magical costumes are encouraged! AND we’re rocking for a cause!! Proceeds from ticket sales will support Sierra Community House\, who provides much-needed family support\, crisis intervention\, hunger relief\, and legal services to North Tahoe and Truckee residents.
URL:https://tahoeonstage.com/lake-tahoe-reno-event/metal-echos-nightmare-before-christmas-alibi-truckee/
LOCATION:Alibi Ale Works – Truckee Public House\, 10069 Bridge Street\, Truckee\, California\, 96161
ATTACH;FMTTYPE=image/jpeg:https://tahoeonstage.com/wp-content/uploads/2022/12/086020DB-7EDA-4914-A1C9-4CE225310F87.jpg
END:VEVENT
BEGIN:VEVENT
DTSTART;TZID=America/Los_Angeles:20221217T200000
DTEND;TZID=America/Los_Angeles:20221217T223000
DTSTAMP:20260420T165919
CREATED:20220819T185321Z
LAST-MODIFIED:20220819T185321Z
UID:86460-1671307200-1671316200@tahoeonstage.com
SUMMARY:'Christmas In Hawaii' - Jake Shimabukuro with Justin Kawika Young
DESCRIPTION:Ukulele superstar Jake Shimabukuro and Hawaiian pop singer Justin Kawika Young perform  “Christmas In Hawaii” for a seated audience in the Crystal Bay Casino Crown Room  on Saturday\, Dec. 17.
URL:https://tahoeonstage.com/lake-tahoe-reno-event/christmas-in-hawaii-jake-shimabukuro-with-justin-kawika-young/
LOCATION:Crystal Bay Casino\, 14 State Highway 28\, Crystal Bay\, NV\, 89402\, United States
ATTACH;FMTTYPE=image/jpeg:https://tahoeonstage.com/wp-content/uploads/2022/08/Jake-Shimabukuro-Christmas-.jpg
END:VEVENT
BEGIN:VEVENT
DTSTART;TZID=America/Los_Angeles:20221216T200000
DTEND;TZID=America/Los_Angeles:20221216T230000
DTSTAMP:20260420T165919
CREATED:20221214T214324Z
LAST-MODIFIED:20221214T214324Z
UID:87092-1671220800-1671231600@tahoeonstage.com
SUMMARY:Gatsby Ball with Sneaky Creatures - Alibi 8th Anniversary Party
DESCRIPTION:Gatsby Ball with Sneaky Creatures – Alibi Ale Works – Incline Public House 8th Anniversary PartyL Come one come all to the Gatsby Ball! We’re celebrating our 8th anniversary with a Great Gatsby-themed swing dancing party with alt-gypsy-jazzy tunes of Sneaky Creatures! Show up at 8 p.m. for a free swing dancing lesson (no partner required) then cut the rug all night long. Roaring 20s costumes encouraged! Proceeds from ticket sales will support Sierra Community House\, who provides much-needed family support\, crisis intervention\, hunger relief\, and legal services to North Tahoe and Truckee residents.
URL:https://tahoeonstage.com/lake-tahoe-reno-event/gatsby-ball-with-sneaky-creatures-alibi-8th-anniversary-party/
LOCATION:Alibi Ale Works Incline Village\, 931 Tahoe Blvd.\, Incline Village\, Nevada\, 89451
ATTACH;FMTTYPE=image/jpeg:https://tahoeonstage.com/wp-content/uploads/2022/12/image_50802177-3.jpg
END:VEVENT
BEGIN:VEVENT
DTSTART;TZID=America/Los_Angeles:20221211T180000
DTEND;TZID=America/Los_Angeles:20221211T200000
DTSTAMP:20260420T165919
CREATED:20221011T180326Z
LAST-MODIFIED:20221011T180326Z
UID:86929-1670781600-1670788800@tahoeonstage.com
SUMMARY:Sunday Jazz Jam Sessions
DESCRIPTION:Alibi Ale Works – Incline Public House couldn’t be more jazzed (ehh get it?) to bring you this new recurring event to Alibi Incline!\n⁠\nStarting this Sunday\, October 16\, Jazz Jam Sessions will bring students & pros into a fun & educational melting pot. All are welcome. No sign up required. Other styles are welcome but the focus will be on jazz & blues.⁠\n⁠\nVillage Music & rotating pros will host this event. Come grab a delicious Alibi beer\, a bite to eat\, & support the jazz players of today & tomorrow!⁠
URL:https://tahoeonstage.com/lake-tahoe-reno-event/sunday-jazz-jam-sessions-2022-12-11/
LOCATION:Alibi Ale Works Incline Village\, 931 Tahoe Blvd.\, Incline Village\, Nevada\, 89451
ATTACH;FMTTYPE=image/png:https://tahoeonstage.com/wp-content/uploads/2022/10/IG-Posts-12.png
END:VEVENT
BEGIN:VEVENT
DTSTART;TZID=America/Los_Angeles:20221210T220000
DTEND;TZID=America/Los_Angeles:20221210T235900
DTSTAMP:20260420T165919
CREATED:20160118T224458Z
LAST-MODIFIED:20221026T190342Z
UID:28112-1670709600-1670716740@tahoeonstage.com
SUMMARY:Coburn Station
DESCRIPTION:Truckee’s Coburn Station returns to Crystal Bay Casino’s Red Room  at 10 p.m. Saturday\, Dec. 10.
URL:https://tahoeonstage.com/lake-tahoe-reno-event/coburn-station/
LOCATION:Crystal Bay Casino\, 14 State Highway 28\, Crystal Bay\, NV\, 89402\, United States
ATTACH;FMTTYPE=image/jpeg:https://tahoeonstage.com/wp-content/uploads/2016/01/Coburn-Station.jpg
END:VEVENT
BEGIN:VEVENT
DTSTART;TZID=America/Los_Angeles:20221209T200000
DTEND;TZID=America/Los_Angeles:20221209T235900
DTSTAMP:20260420T165919
CREATED:20221010T200414Z
LAST-MODIFIED:20221010T200414Z
UID:86904-1670616000-1670630340@tahoeonstage.com
SUMMARY:The Young Dubliners
DESCRIPTION:The Young Dubliners play a seated Crystal Bay Casino Crown Room show on Friday\, Dec. 9. Advance tickets are $25. The show starts at 8 p.m.
URL:https://tahoeonstage.com/lake-tahoe-reno-event/the-young-dubliners/
LOCATION:Crystal Bay Casino\, 14 State Highway 28\, Crystal Bay\, NV\, 89402\, United States
ATTACH;FMTTYPE=image/jpeg:https://tahoeonstage.com/wp-content/uploads/2022/10/Young-Dubliners.jpg
END:VEVENT
BEGIN:VEVENT
DTSTART;TZID=America/Los_Angeles:20221204T180000
DTEND;TZID=America/Los_Angeles:20221204T200000
DTSTAMP:20260420T165919
CREATED:20221011T180326Z
LAST-MODIFIED:20221011T180326Z
UID:86928-1670176800-1670184000@tahoeonstage.com
SUMMARY:Sunday Jazz Jam Sessions
DESCRIPTION:Alibi Ale Works – Incline Public House couldn’t be more jazzed (ehh get it?) to bring you this new recurring event to Alibi Incline!\n⁠\nStarting this Sunday\, October 16\, Jazz Jam Sessions will bring students & pros into a fun & educational melting pot. All are welcome. No sign up required. Other styles are welcome but the focus will be on jazz & blues.⁠\n⁠\nVillage Music & rotating pros will host this event. Come grab a delicious Alibi beer\, a bite to eat\, & support the jazz players of today & tomorrow!⁠
URL:https://tahoeonstage.com/lake-tahoe-reno-event/sunday-jazz-jam-sessions-2022-12-04/
LOCATION:Alibi Ale Works Incline Village\, 931 Tahoe Blvd.\, Incline Village\, Nevada\, 89451
ATTACH;FMTTYPE=image/png:https://tahoeonstage.com/wp-content/uploads/2022/10/IG-Posts-12.png
END:VEVENT
BEGIN:VEVENT
DTSTART;TZID=America/Los_Angeles:20221127T180000
DTEND;TZID=America/Los_Angeles:20221127T200000
DTSTAMP:20260420T165919
CREATED:20221011T180326Z
LAST-MODIFIED:20221011T180326Z
UID:86927-1669572000-1669579200@tahoeonstage.com
SUMMARY:Sunday Jazz Jam Sessions
DESCRIPTION:Alibi Ale Works – Incline Public House couldn’t be more jazzed (ehh get it?) to bring you this new recurring event to Alibi Incline!\n⁠\nStarting this Sunday\, October 16\, Jazz Jam Sessions will bring students & pros into a fun & educational melting pot. All are welcome. No sign up required. Other styles are welcome but the focus will be on jazz & blues.⁠\n⁠\nVillage Music & rotating pros will host this event. Come grab a delicious Alibi beer\, a bite to eat\, & support the jazz players of today & tomorrow!⁠
URL:https://tahoeonstage.com/lake-tahoe-reno-event/sunday-jazz-jam-sessions-2022-11-27/
LOCATION:Alibi Ale Works Incline Village\, 931 Tahoe Blvd.\, Incline Village\, Nevada\, 89451
ATTACH;FMTTYPE=image/png:https://tahoeonstage.com/wp-content/uploads/2022/10/IG-Posts-12.png
END:VEVENT
BEGIN:VEVENT
DTSTART;TZID=America/Los_Angeles:20221126T200000
DTEND;TZID=America/Los_Angeles:20221126T230000
DTSTAMP:20260420T165919
CREATED:20220919T201747Z
LAST-MODIFIED:20220919T201747Z
UID:86702-1669492800-1669503600@tahoeonstage.com
SUMMARY:Thanksgiving Comedy Weekend featuring Harland Williams
DESCRIPTION:Thanksgiving Comedy Weekend featuring Harland Williams will be held on Friday and Saturday\, Nov. 25-25\, in the Crystal Bay Casino’s Crown Room. The seated show also features comics Mike E. Winfield and Jade Catta-Preta.
URL:https://tahoeonstage.com/lake-tahoe-reno-event/thanksgiving-comedy-weekend-featuring-harland-williams-2022-11-26/
LOCATION:Crystal Bay Casino\, 14 State Highway 28\, Crystal Bay\, NV\, 89402\, United States
ATTACH;FMTTYPE=image/jpeg:https://tahoeonstage.com/wp-content/uploads/2022/09/Harland-Williams-friends.jpg
END:VEVENT
BEGIN:VEVENT
DTSTART;TZID=America/Los_Angeles:20221126T200000
DTEND;TZID=America/Los_Angeles:20221126T230000
DTSTAMP:20260420T165919
CREATED:20220510T233314Z
LAST-MODIFIED:20220510T233314Z
UID:84871-1669492800-1669503600@tahoeonstage.com
SUMMARY:Joe Bonamassa
DESCRIPTION:Blues rocker Joe Bonamassa plays the Grand Sierra Resort on Saturday\, Nov. 26\, at the Grand Sierra Resort. Tickets go on sale May 13.
URL:https://tahoeonstage.com/lake-tahoe-reno-event/joe-bonamassa-3/
LOCATION:Grand Sierra Resort and Casino\, 2500 East Second Street\, Reno\, NV\, 89595\, United States
ATTACH;FMTTYPE=image/jpeg:https://tahoeonstage.com/wp-content/uploads/2018/11/untitled-6.jpg
END:VEVENT
BEGIN:VEVENT
DTSTART;TZID=America/Los_Angeles:20221125T200000
DTEND;TZID=America/Los_Angeles:20221125T230000
DTSTAMP:20260420T165919
CREATED:20220919T201747Z
LAST-MODIFIED:20220919T201747Z
UID:86698-1669406400-1669417200@tahoeonstage.com
SUMMARY:Thanksgiving Comedy Weekend featuring Harland Williams
DESCRIPTION:Thanksgiving Comedy Weekend featuring Harland Williams will be held on Friday and Saturday\, Nov. 25-25\, in the Crystal Bay Casino’s Crown Room. The seated show also features comics Mike E. Winfield and Jade Catta-Preta.
URL:https://tahoeonstage.com/lake-tahoe-reno-event/thanksgiving-comedy-weekend-featuring-harland-williams/
LOCATION:Crystal Bay Casino\, 14 State Highway 28\, Crystal Bay\, NV\, 89402\, United States
ATTACH;FMTTYPE=image/jpeg:https://tahoeonstage.com/wp-content/uploads/2022/09/Harland-Williams-friends.jpg
END:VEVENT
BEGIN:VEVENT
DTSTART;TZID=America/Los_Angeles:20221120T180000
DTEND;TZID=America/Los_Angeles:20221120T200000
DTSTAMP:20260420T165919
CREATED:20221011T180326Z
LAST-MODIFIED:20221011T180326Z
UID:86926-1668967200-1668974400@tahoeonstage.com
SUMMARY:Sunday Jazz Jam Sessions
DESCRIPTION:Alibi Ale Works – Incline Public House couldn’t be more jazzed (ehh get it?) to bring you this new recurring event to Alibi Incline!\n⁠\nStarting this Sunday\, October 16\, Jazz Jam Sessions will bring students & pros into a fun & educational melting pot. All are welcome. No sign up required. Other styles are welcome but the focus will be on jazz & blues.⁠\n⁠\nVillage Music & rotating pros will host this event. Come grab a delicious Alibi beer\, a bite to eat\, & support the jazz players of today & tomorrow!⁠
URL:https://tahoeonstage.com/lake-tahoe-reno-event/sunday-jazz-jam-sessions-2022-11-20/
LOCATION:Alibi Ale Works Incline Village\, 931 Tahoe Blvd.\, Incline Village\, Nevada\, 89451
ATTACH;FMTTYPE=image/png:https://tahoeonstage.com/wp-content/uploads/2022/10/IG-Posts-12.png
END:VEVENT
BEGIN:VEVENT
DTSTART;TZID=America/Los_Angeles:20221118T210000
DTEND;TZID=America/Los_Angeles:20221118T235900
DTSTAMP:20260420T165919
CREATED:20221106T222412Z
LAST-MODIFIED:20221106T222442Z
UID:86998-1668805200-1668815940@tahoeonstage.com
SUMMARY:Ideateam
DESCRIPTION:Ideateam plays Alibi Ale Works – Truckee Public House on Friday\, Nov. 18. Ideateam is an evolving cast of Sacramento-based musicians who work together collectively to refine their craft through their distinct original compositions\, along with an array of both vintage and modern cover arrangements. The band’s live sets are known for flowing in and around a winding fusion of grooves while leaning on a foundation of experimental funk\, soul\, and r&b sounds. FREE show not to be missed!
URL:https://tahoeonstage.com/lake-tahoe-reno-event/ideateam-4/
LOCATION:Alibi Ale Works – Truckee Public House\, 10069 Bridge Street\, Truckee\, California\, 96161
ATTACH;FMTTYPE=image/png:https://tahoeonstage.com/wp-content/uploads/2022/11/6190B73E-94B9-407B-A458-8E05F75BD1B9.png
END:VEVENT
BEGIN:VEVENT
DTSTART;TZID=America/Los_Angeles:20221113T180000
DTEND;TZID=America/Los_Angeles:20221113T200000
DTSTAMP:20260420T165919
CREATED:20221011T180326Z
LAST-MODIFIED:20221011T180326Z
UID:86925-1668362400-1668369600@tahoeonstage.com
SUMMARY:Sunday Jazz Jam Sessions
DESCRIPTION:Alibi Ale Works – Incline Public House couldn’t be more jazzed (ehh get it?) to bring you this new recurring event to Alibi Incline!\n⁠\nStarting this Sunday\, October 16\, Jazz Jam Sessions will bring students & pros into a fun & educational melting pot. All are welcome. No sign up required. Other styles are welcome but the focus will be on jazz & blues.⁠\n⁠\nVillage Music & rotating pros will host this event. Come grab a delicious Alibi beer\, a bite to eat\, & support the jazz players of today & tomorrow!⁠
URL:https://tahoeonstage.com/lake-tahoe-reno-event/sunday-jazz-jam-sessions-2022-11-13/
LOCATION:Alibi Ale Works Incline Village\, 931 Tahoe Blvd.\, Incline Village\, Nevada\, 89451
ATTACH;FMTTYPE=image/png:https://tahoeonstage.com/wp-content/uploads/2022/10/IG-Posts-12.png
END:VEVENT
BEGIN:VEVENT
DTSTART;TZID=America/Los_Angeles:20221112T220000
DTEND;TZID=America/Los_Angeles:20221112T235900
DTSTAMP:20260420T165919
CREATED:20221010T195752Z
LAST-MODIFIED:20221010T195752Z
UID:86901-1668290400-1668297540@tahoeonstage.com
SUMMARY:Jonathan Scales Fourchestra
DESCRIPTION:Jonathan Scales Fourchestra plays in the Crystal Bay Casino’s Red Room on Saturday\, Nov. 12. The free show starts at 10 p.m.
URL:https://tahoeonstage.com/lake-tahoe-reno-event/jonathan-scales-fourchestra-2/
LOCATION:Crystal Bay Casino\, 14 State Highway 28\, Crystal Bay\, NV\, 89402\, United States
ATTACH;FMTTYPE=image/jpeg:https://tahoeonstage.com/wp-content/uploads/2022/10/jonathan_scalesSandlinGaither.jpg
END:VEVENT
BEGIN:VEVENT
DTSTART;TZID=America/Los_Angeles:20221112T210000
DTEND;TZID=America/Los_Angeles:20221112T233000
DTSTAMP:20260420T165919
CREATED:20220930T194605Z
LAST-MODIFIED:20220930T194605Z
UID:86817-1668286800-1668295800@tahoeonstage.com
SUMMARY:Tomorrows Bad Seeds plus Lizano
DESCRIPTION:Tomorrows Bad Seeds plus Lizano perform at Whiskey Dick’s Saloon in South Lake Tahoe on Saturday\, Nov. 12. Advance tickets are $15. Cover charge is $20. Doors open at 8 pm. and the music starts at 9 p.m. This is a Late Nite Productions show.
URL:https://tahoeonstage.com/lake-tahoe-reno-event/tomorrows-bad-seeds-plus-lizano/
LOCATION:Whiskey Dick’s Saloon\, 2660 Lake Tahoe Blvd.\, South Lake Tahoe\, CA\, United States
ATTACH;FMTTYPE=image/jpeg:https://tahoeonstage.com/wp-content/uploads/2022/09/Bad-Seeds-Nov-12.jpg
END:VEVENT
BEGIN:VEVENT
DTSTART;TZID=America/Los_Angeles:20221112T200000
DTEND;TZID=America/Los_Angeles:20221112T223000
DTSTAMP:20260420T165919
CREATED:20220815T210002Z
LAST-MODIFIED:20220815T210002Z
UID:86366-1668283200-1668292200@tahoeonstage.com
SUMMARY:Jeff Beck
DESCRIPTION:Jeff Beck performs at 8 p.m. Saturday\, Nov. 12\, in Reno’s Grand Sierra Resort. Tickets for Jeff Beck at GSR go on sale Friday\, Aug. 19 at 10 a.m. and start at $44.50\, plus additional taxes and fees. \nRanked in the top five of Rolling Stone’s list of “100 Greatest Guitarists\,” Beck is revered for his innovative playing style and brazen personality. The English rocker’s winding career traces back to 1965 when he assumed the role of lead guitarist for The Yardbirds after Eric Clapton’s departure. During his brief time with the iconic band\, Beck managed to broaden the boundaries of electric guitar with his explorations of reverb\, fuzz tone and distortion\, ultimately proving to be a pioneer of psychedelic rock. In 1967\, he formed the Jeff Beck Group with vocalist Rod Stewart and began defining heavy rock with his signature Stratocaster tone and intricate compositions. After a period of calm\, Beck released the mostly instrumental album “Blow by Blow\,” which peaked at No. 4 on the American Billboard 200 and was certified platinum by the RIAA.
URL:https://tahoeonstage.com/lake-tahoe-reno-event/jeff-beck/
LOCATION:Grand Sierra Resort and Casino\, 2500 East Second Street\, Reno\, NV\, 89595\, United States
ATTACH;FMTTYPE=image/jpeg:https://tahoeonstage.com/wp-content/uploads/2022/08/Jeff-Beck.jpg
END:VEVENT
BEGIN:VEVENT
DTSTART;TZID=America/Los_Angeles:20221111T210000
DTEND;TZID=America/Los_Angeles:20221111T230000
DTSTAMP:20260420T165919
CREATED:20221106T222101Z
LAST-MODIFIED:20221106T222101Z
UID:86995-1668200400-1668207600@tahoeonstage.com
SUMMARY:Vince Herman Band
DESCRIPTION:The Vince Herman Band is out to have some fun Friday\, Nov. 11\, at the Alibi Ale Works -Truckee Public House. Thirty three years after founding Leftover Salmon\, Vince is releasing an album of his own and hitting the road to play a batch of songs developed in his new Nashville home. It’s a bit of a departure from the “Salmon sound” as he digs into his idea of what country music is. There’s some bluegrass and Cajun influences and honky-tonk ballads all piled atop great players taking the tunes for a ride. He’s hitting the road soon with his new band and we can’t wait to have him at Alibi Truckee!
URL:https://tahoeonstage.com/lake-tahoe-reno-event/vince-herman-band/
LOCATION:Alibi Ale Works – Truckee Public House\, 10069 Bridge Street\, Truckee\, California\, 96161
ATTACH;FMTTYPE=image/png:https://tahoeonstage.com/wp-content/uploads/2022/11/IG-Posts-16.png
END:VEVENT
BEGIN:VEVENT
DTSTART;TZID=America/Los_Angeles:20221111T200000
DTEND;TZID=America/Los_Angeles:20221111T233000
DTSTAMP:20260420T165919
CREATED:20220919T200857Z
LAST-MODIFIED:20220919T201122Z
UID:86693-1668196800-1668209400@tahoeonstage.com
SUMMARY:DENM\, Boostive\, Jakob Nowell
DESCRIPTION:California-based bedroom electronic artist  DENM with Boostive\, Jakob Nowell appear Friday\, Nov. 11\, in the Crystal Bay Casino’s Crown Room. Advance tickets are $20.
URL:https://tahoeonstage.com/lake-tahoe-reno-event/denm-boostive-jakob-nowell/
LOCATION:Crystal Bay Casino\, 14 State Highway 28\, Crystal Bay\, NV\, 89402\, United States
ATTACH;FMTTYPE=image/jpeg:https://tahoeonstage.com/wp-content/uploads/2022/09/DENM-2022-tour-.jpg
END:VEVENT
BEGIN:VEVENT
DTSTART;TZID=America/Los_Angeles:20221110T210000
DTEND;TZID=America/Los_Angeles:20221110T233000
DTSTAMP:20260420T165919
CREATED:20220919T200304Z
LAST-MODIFIED:20220919T200304Z
UID:86691-1668114000-1668123000@tahoeonstage.com
SUMMARY:BoomBox featuring the Backbeat Brass with Mark Farina
DESCRIPTION:BoomBox concludes a two-night run at the Crystal Bay Casino’s Crown Room on Thursday\, Nov. 10 with the Backbeat Brass with Mark Farina.
URL:https://tahoeonstage.com/lake-tahoe-reno-event/boombox-featuring-the-backbeat-brass-with-mark-farina/
LOCATION:Crystal Bay Casino\, 14 State Highway 28\, Crystal Bay\, NV\, 89402\, United States
ATTACH;FMTTYPE=image/jpeg:https://tahoeonstage.com/wp-content/uploads/2022/09/BoomBox-final-2022-1-1.jpg
END:VEVENT
BEGIN:VEVENT
DTSTART;TZID=America/Los_Angeles:20221109T210000
DTEND;TZID=America/Los_Angeles:20221109T233000
DTSTAMP:20260420T165919
CREATED:20220919T195745Z
LAST-MODIFIED:20220919T195905Z
UID:86688-1668027600-1668036600@tahoeonstage.com
SUMMARY:BoomBox featuring the Backbeat Brass with Miguel Migs
DESCRIPTION:BoomBox starts at two-night run at the Crystal Bay Casino’s Crown Room on Wednesday\, Nov. 9 with the Backbeat Brass with Miguel Migs.
URL:https://tahoeonstage.com/lake-tahoe-reno-event/boombox-featuring-the-backbeat-brass-with-miguel-migs/
LOCATION:Crystal Bay Casino\, 14 State Highway 28\, Crystal Bay\, NV\, 89402\, United States
ATTACH;FMTTYPE=image/jpeg:https://tahoeonstage.com/wp-content/uploads/2022/09/BoomBox-final-2022-1-1.jpg
END:VEVENT
END:VCALENDAR