BEGIN:VCALENDAR
VERSION:2.0
PRODID:-//Tahoe Onstage | Lake Tahoe music concerts and sports - ECPv6.15.20//NONSGML v1.0//EN
CALSCALE:GREGORIAN
METHOD:PUBLISH
X-ORIGINAL-URL:https://tahoeonstage.com
X-WR-CALDESC:Events for Tahoe Onstage | Lake Tahoe music concerts and sports
REFRESH-INTERVAL;VALUE=DURATION:PT1H
X-Robots-Tag:noindex
X-PUBLISHED-TTL:PT1H
BEGIN:VTIMEZONE
TZID:America/Los_Angeles
BEGIN:DAYLIGHT
TZOFFSETFROM:-0800
TZOFFSETTO:-0700
TZNAME:PDT
DTSTART:20220313T100000
END:DAYLIGHT
BEGIN:STANDARD
TZOFFSETFROM:-0700
TZOFFSETTO:-0800
TZNAME:PST
DTSTART:20221106T090000
END:STANDARD
BEGIN:DAYLIGHT
TZOFFSETFROM:-0800
TZOFFSETTO:-0700
TZNAME:PDT
DTSTART:20230312T100000
END:DAYLIGHT
BEGIN:STANDARD
TZOFFSETFROM:-0700
TZOFFSETTO:-0800
TZNAME:PST
DTSTART:20231105T090000
END:STANDARD
BEGIN:DAYLIGHT
TZOFFSETFROM:-0800
TZOFFSETTO:-0700
TZNAME:PDT
DTSTART:20240310T100000
END:DAYLIGHT
BEGIN:STANDARD
TZOFFSETFROM:-0700
TZOFFSETTO:-0800
TZNAME:PST
DTSTART:20241103T090000
END:STANDARD
END:VTIMEZONE
BEGIN:VEVENT
DTSTART;TZID=America/Los_Angeles:20231024T200000
DTEND;TZID=America/Los_Angeles:20231024T233000
DTSTAMP:20260420T092159
CREATED:20230120T200237Z
LAST-MODIFIED:20230120T200237Z
UID:87264-1698177600-1698190200@tahoeonstage.com
SUMMARY:Buddy Emmer's Tuesday Night Blues
DESCRIPTION:The longest-running blues residency in Northern Nevada\, Buddy Emmer’s Tuesday Night Blues is held weekley at Harrah’s Lake Tahoe Center Stage from 8-11 p.m. There’s no cover charge. The Buddy Emmer Blues Band featuring singer Kim Emmer opens the show\, followed by two sets with a featured guest. The lists of blues player who have appeared is impressive: Kyle Rowland\, Mighty Mike Schermer\, Chris Cain\, Johnny Burgin\, Terry Hanck\, Daniel Castro\, Steve Freund\, Nancy Wright\, Tony Ghiglieri\, Chuck Dunn\, Jason King\, Miles Schon\, Andy Santana\, Todd Morgan\, Snakeboy Johnson\, Shane Dwight\, Mark Wilson\, Matty T\, Laurie Morvan\, Mike Clarke\, Alvon Johnson\, Jeramy Norris\, Richie Blue\, Mark Hummel and Kid Andersen.
URL:https://tahoeonstage.com/lake-tahoe-reno-event/buddy-emmers-tuesday-night-blues-2023-10-24/
LOCATION:Harrah’s Lake Tahoe\, 14 U.S. Highway 50\, Stateline\, NV
ATTACH;FMTTYPE=image/jpeg:https://tahoeonstage.com/wp-content/uploads/2021/07/Buddy-black-and-white.jpg
END:VEVENT
BEGIN:VEVENT
DTSTART;TZID=America/Los_Angeles:20231031T200000
DTEND;TZID=America/Los_Angeles:20231031T233000
DTSTAMP:20260420T092159
CREATED:20230120T200237Z
LAST-MODIFIED:20230120T200237Z
UID:87265-1698782400-1698795000@tahoeonstage.com
SUMMARY:Buddy Emmer's Tuesday Night Blues
DESCRIPTION:The longest-running blues residency in Northern Nevada\, Buddy Emmer’s Tuesday Night Blues is held weekley at Harrah’s Lake Tahoe Center Stage from 8-11 p.m. There’s no cover charge. The Buddy Emmer Blues Band featuring singer Kim Emmer opens the show\, followed by two sets with a featured guest. The lists of blues player who have appeared is impressive: Kyle Rowland\, Mighty Mike Schermer\, Chris Cain\, Johnny Burgin\, Terry Hanck\, Daniel Castro\, Steve Freund\, Nancy Wright\, Tony Ghiglieri\, Chuck Dunn\, Jason King\, Miles Schon\, Andy Santana\, Todd Morgan\, Snakeboy Johnson\, Shane Dwight\, Mark Wilson\, Matty T\, Laurie Morvan\, Mike Clarke\, Alvon Johnson\, Jeramy Norris\, Richie Blue\, Mark Hummel and Kid Andersen.
URL:https://tahoeonstage.com/lake-tahoe-reno-event/buddy-emmers-tuesday-night-blues-2023-10-31/
LOCATION:Harrah’s Lake Tahoe\, 14 U.S. Highway 50\, Stateline\, NV
ATTACH;FMTTYPE=image/jpeg:https://tahoeonstage.com/wp-content/uploads/2021/07/Buddy-black-and-white.jpg
END:VEVENT
BEGIN:VEVENT
DTSTART;TZID=America/Los_Angeles:20231107T200000
DTEND;TZID=America/Los_Angeles:20231107T233000
DTSTAMP:20260420T092159
CREATED:20230120T200237Z
LAST-MODIFIED:20230120T200237Z
UID:87266-1699387200-1699399800@tahoeonstage.com
SUMMARY:Buddy Emmer's Tuesday Night Blues
DESCRIPTION:The longest-running blues residency in Northern Nevada\, Buddy Emmer’s Tuesday Night Blues is held weekley at Harrah’s Lake Tahoe Center Stage from 8-11 p.m. There’s no cover charge. The Buddy Emmer Blues Band featuring singer Kim Emmer opens the show\, followed by two sets with a featured guest. The lists of blues player who have appeared is impressive: Kyle Rowland\, Mighty Mike Schermer\, Chris Cain\, Johnny Burgin\, Terry Hanck\, Daniel Castro\, Steve Freund\, Nancy Wright\, Tony Ghiglieri\, Chuck Dunn\, Jason King\, Miles Schon\, Andy Santana\, Todd Morgan\, Snakeboy Johnson\, Shane Dwight\, Mark Wilson\, Matty T\, Laurie Morvan\, Mike Clarke\, Alvon Johnson\, Jeramy Norris\, Richie Blue\, Mark Hummel and Kid Andersen.
URL:https://tahoeonstage.com/lake-tahoe-reno-event/buddy-emmers-tuesday-night-blues-2023-11-07/
LOCATION:Harrah’s Lake Tahoe\, 14 U.S. Highway 50\, Stateline\, NV
ATTACH;FMTTYPE=image/jpeg:https://tahoeonstage.com/wp-content/uploads/2021/07/Buddy-black-and-white.jpg
END:VEVENT
BEGIN:VEVENT
DTSTART;TZID=America/Los_Angeles:20231114T200000
DTEND;TZID=America/Los_Angeles:20231114T233000
DTSTAMP:20260420T092159
CREATED:20230120T200237Z
LAST-MODIFIED:20230120T200237Z
UID:87267-1699992000-1700004600@tahoeonstage.com
SUMMARY:Buddy Emmer's Tuesday Night Blues
DESCRIPTION:The longest-running blues residency in Northern Nevada\, Buddy Emmer’s Tuesday Night Blues is held weekley at Harrah’s Lake Tahoe Center Stage from 8-11 p.m. There’s no cover charge. The Buddy Emmer Blues Band featuring singer Kim Emmer opens the show\, followed by two sets with a featured guest. The lists of blues player who have appeared is impressive: Kyle Rowland\, Mighty Mike Schermer\, Chris Cain\, Johnny Burgin\, Terry Hanck\, Daniel Castro\, Steve Freund\, Nancy Wright\, Tony Ghiglieri\, Chuck Dunn\, Jason King\, Miles Schon\, Andy Santana\, Todd Morgan\, Snakeboy Johnson\, Shane Dwight\, Mark Wilson\, Matty T\, Laurie Morvan\, Mike Clarke\, Alvon Johnson\, Jeramy Norris\, Richie Blue\, Mark Hummel and Kid Andersen.
URL:https://tahoeonstage.com/lake-tahoe-reno-event/buddy-emmers-tuesday-night-blues-2023-11-14/
LOCATION:Harrah’s Lake Tahoe\, 14 U.S. Highway 50\, Stateline\, NV
ATTACH;FMTTYPE=image/jpeg:https://tahoeonstage.com/wp-content/uploads/2021/07/Buddy-black-and-white.jpg
END:VEVENT
BEGIN:VEVENT
DTSTART;TZID=America/Los_Angeles:20231121T200000
DTEND;TZID=America/Los_Angeles:20231121T233000
DTSTAMP:20260420T092159
CREATED:20230120T200237Z
LAST-MODIFIED:20230120T200237Z
UID:87268-1700596800-1700609400@tahoeonstage.com
SUMMARY:Buddy Emmer's Tuesday Night Blues
DESCRIPTION:The longest-running blues residency in Northern Nevada\, Buddy Emmer’s Tuesday Night Blues is held weekley at Harrah’s Lake Tahoe Center Stage from 8-11 p.m. There’s no cover charge. The Buddy Emmer Blues Band featuring singer Kim Emmer opens the show\, followed by two sets with a featured guest. The lists of blues player who have appeared is impressive: Kyle Rowland\, Mighty Mike Schermer\, Chris Cain\, Johnny Burgin\, Terry Hanck\, Daniel Castro\, Steve Freund\, Nancy Wright\, Tony Ghiglieri\, Chuck Dunn\, Jason King\, Miles Schon\, Andy Santana\, Todd Morgan\, Snakeboy Johnson\, Shane Dwight\, Mark Wilson\, Matty T\, Laurie Morvan\, Mike Clarke\, Alvon Johnson\, Jeramy Norris\, Richie Blue\, Mark Hummel and Kid Andersen.
URL:https://tahoeonstage.com/lake-tahoe-reno-event/buddy-emmers-tuesday-night-blues-2023-11-21/
LOCATION:Harrah’s Lake Tahoe\, 14 U.S. Highway 50\, Stateline\, NV
ATTACH;FMTTYPE=image/jpeg:https://tahoeonstage.com/wp-content/uploads/2021/07/Buddy-black-and-white.jpg
END:VEVENT
BEGIN:VEVENT
DTSTART;TZID=America/Los_Angeles:20231128T200000
DTEND;TZID=America/Los_Angeles:20231128T233000
DTSTAMP:20260420T092159
CREATED:20230120T200237Z
LAST-MODIFIED:20230120T200237Z
UID:87269-1701201600-1701214200@tahoeonstage.com
SUMMARY:Buddy Emmer's Tuesday Night Blues
DESCRIPTION:The longest-running blues residency in Northern Nevada\, Buddy Emmer’s Tuesday Night Blues is held weekley at Harrah’s Lake Tahoe Center Stage from 8-11 p.m. There’s no cover charge. The Buddy Emmer Blues Band featuring singer Kim Emmer opens the show\, followed by two sets with a featured guest. The lists of blues player who have appeared is impressive: Kyle Rowland\, Mighty Mike Schermer\, Chris Cain\, Johnny Burgin\, Terry Hanck\, Daniel Castro\, Steve Freund\, Nancy Wright\, Tony Ghiglieri\, Chuck Dunn\, Jason King\, Miles Schon\, Andy Santana\, Todd Morgan\, Snakeboy Johnson\, Shane Dwight\, Mark Wilson\, Matty T\, Laurie Morvan\, Mike Clarke\, Alvon Johnson\, Jeramy Norris\, Richie Blue\, Mark Hummel and Kid Andersen.
URL:https://tahoeonstage.com/lake-tahoe-reno-event/buddy-emmers-tuesday-night-blues-2023-11-28/
LOCATION:Harrah’s Lake Tahoe\, 14 U.S. Highway 50\, Stateline\, NV
ATTACH;FMTTYPE=image/jpeg:https://tahoeonstage.com/wp-content/uploads/2021/07/Buddy-black-and-white.jpg
END:VEVENT
BEGIN:VEVENT
DTSTART;TZID=America/Los_Angeles:20231205T200000
DTEND;TZID=America/Los_Angeles:20231205T233000
DTSTAMP:20260420T092159
CREATED:20230120T200237Z
LAST-MODIFIED:20230120T200237Z
UID:87270-1701806400-1701819000@tahoeonstage.com
SUMMARY:Buddy Emmer's Tuesday Night Blues
DESCRIPTION:The longest-running blues residency in Northern Nevada\, Buddy Emmer’s Tuesday Night Blues is held weekley at Harrah’s Lake Tahoe Center Stage from 8-11 p.m. There’s no cover charge. The Buddy Emmer Blues Band featuring singer Kim Emmer opens the show\, followed by two sets with a featured guest. The lists of blues player who have appeared is impressive: Kyle Rowland\, Mighty Mike Schermer\, Chris Cain\, Johnny Burgin\, Terry Hanck\, Daniel Castro\, Steve Freund\, Nancy Wright\, Tony Ghiglieri\, Chuck Dunn\, Jason King\, Miles Schon\, Andy Santana\, Todd Morgan\, Snakeboy Johnson\, Shane Dwight\, Mark Wilson\, Matty T\, Laurie Morvan\, Mike Clarke\, Alvon Johnson\, Jeramy Norris\, Richie Blue\, Mark Hummel and Kid Andersen.
URL:https://tahoeonstage.com/lake-tahoe-reno-event/buddy-emmers-tuesday-night-blues-2023-12-05/
LOCATION:Harrah’s Lake Tahoe\, 14 U.S. Highway 50\, Stateline\, NV
ATTACH;FMTTYPE=image/jpeg:https://tahoeonstage.com/wp-content/uploads/2021/07/Buddy-black-and-white.jpg
END:VEVENT
BEGIN:VEVENT
DTSTART;TZID=America/Los_Angeles:20231212T200000
DTEND;TZID=America/Los_Angeles:20231212T233000
DTSTAMP:20260420T092159
CREATED:20230120T200237Z
LAST-MODIFIED:20230120T200237Z
UID:87271-1702411200-1702423800@tahoeonstage.com
SUMMARY:Buddy Emmer's Tuesday Night Blues
DESCRIPTION:The longest-running blues residency in Northern Nevada\, Buddy Emmer’s Tuesday Night Blues is held weekley at Harrah’s Lake Tahoe Center Stage from 8-11 p.m. There’s no cover charge. The Buddy Emmer Blues Band featuring singer Kim Emmer opens the show\, followed by two sets with a featured guest. The lists of blues player who have appeared is impressive: Kyle Rowland\, Mighty Mike Schermer\, Chris Cain\, Johnny Burgin\, Terry Hanck\, Daniel Castro\, Steve Freund\, Nancy Wright\, Tony Ghiglieri\, Chuck Dunn\, Jason King\, Miles Schon\, Andy Santana\, Todd Morgan\, Snakeboy Johnson\, Shane Dwight\, Mark Wilson\, Matty T\, Laurie Morvan\, Mike Clarke\, Alvon Johnson\, Jeramy Norris\, Richie Blue\, Mark Hummel and Kid Andersen.
URL:https://tahoeonstage.com/lake-tahoe-reno-event/buddy-emmers-tuesday-night-blues-2023-12-12/
LOCATION:Harrah’s Lake Tahoe\, 14 U.S. Highway 50\, Stateline\, NV
ATTACH;FMTTYPE=image/jpeg:https://tahoeonstage.com/wp-content/uploads/2021/07/Buddy-black-and-white.jpg
END:VEVENT
BEGIN:VEVENT
DTSTART;TZID=America/Los_Angeles:20231219T200000
DTEND;TZID=America/Los_Angeles:20231219T233000
DTSTAMP:20260420T092159
CREATED:20230120T200237Z
LAST-MODIFIED:20230120T200237Z
UID:87272-1703016000-1703028600@tahoeonstage.com
SUMMARY:Buddy Emmer's Tuesday Night Blues
DESCRIPTION:The longest-running blues residency in Northern Nevada\, Buddy Emmer’s Tuesday Night Blues is held weekley at Harrah’s Lake Tahoe Center Stage from 8-11 p.m. There’s no cover charge. The Buddy Emmer Blues Band featuring singer Kim Emmer opens the show\, followed by two sets with a featured guest. The lists of blues player who have appeared is impressive: Kyle Rowland\, Mighty Mike Schermer\, Chris Cain\, Johnny Burgin\, Terry Hanck\, Daniel Castro\, Steve Freund\, Nancy Wright\, Tony Ghiglieri\, Chuck Dunn\, Jason King\, Miles Schon\, Andy Santana\, Todd Morgan\, Snakeboy Johnson\, Shane Dwight\, Mark Wilson\, Matty T\, Laurie Morvan\, Mike Clarke\, Alvon Johnson\, Jeramy Norris\, Richie Blue\, Mark Hummel and Kid Andersen.
URL:https://tahoeonstage.com/lake-tahoe-reno-event/buddy-emmers-tuesday-night-blues-2023-12-19/
LOCATION:Harrah’s Lake Tahoe\, 14 U.S. Highway 50\, Stateline\, NV
ATTACH;FMTTYPE=image/jpeg:https://tahoeonstage.com/wp-content/uploads/2021/07/Buddy-black-and-white.jpg
END:VEVENT
BEGIN:VEVENT
DTSTART;TZID=America/Los_Angeles:20231226T200000
DTEND;TZID=America/Los_Angeles:20231226T233000
DTSTAMP:20260420T092159
CREATED:20230120T200237Z
LAST-MODIFIED:20230120T200237Z
UID:87273-1703620800-1703633400@tahoeonstage.com
SUMMARY:Buddy Emmer's Tuesday Night Blues
DESCRIPTION:The longest-running blues residency in Northern Nevada\, Buddy Emmer’s Tuesday Night Blues is held weekley at Harrah’s Lake Tahoe Center Stage from 8-11 p.m. There’s no cover charge. The Buddy Emmer Blues Band featuring singer Kim Emmer opens the show\, followed by two sets with a featured guest. The lists of blues player who have appeared is impressive: Kyle Rowland\, Mighty Mike Schermer\, Chris Cain\, Johnny Burgin\, Terry Hanck\, Daniel Castro\, Steve Freund\, Nancy Wright\, Tony Ghiglieri\, Chuck Dunn\, Jason King\, Miles Schon\, Andy Santana\, Todd Morgan\, Snakeboy Johnson\, Shane Dwight\, Mark Wilson\, Matty T\, Laurie Morvan\, Mike Clarke\, Alvon Johnson\, Jeramy Norris\, Richie Blue\, Mark Hummel and Kid Andersen.
URL:https://tahoeonstage.com/lake-tahoe-reno-event/buddy-emmers-tuesday-night-blues-2023-12-26/
LOCATION:Harrah’s Lake Tahoe\, 14 U.S. Highway 50\, Stateline\, NV
ATTACH;FMTTYPE=image/jpeg:https://tahoeonstage.com/wp-content/uploads/2021/07/Buddy-black-and-white.jpg
END:VEVENT
END:VCALENDAR