BEGIN:VCALENDAR
VERSION:2.0
PRODID:-//Tahoe Onstage | Lake Tahoe music concerts and sports - ECPv6.15.20//NONSGML v1.0//EN
CALSCALE:GREGORIAN
METHOD:PUBLISH
X-ORIGINAL-URL:https://tahoeonstage.com
X-WR-CALDESC:Events for Tahoe Onstage | Lake Tahoe music concerts and sports
REFRESH-INTERVAL;VALUE=DURATION:PT1H
X-Robots-Tag:noindex
X-PUBLISHED-TTL:PT1H
BEGIN:VTIMEZONE
TZID:America/Los_Angeles
BEGIN:DAYLIGHT
TZOFFSETFROM:-0800
TZOFFSETTO:-0700
TZNAME:PDT
DTSTART:20220313T100000
END:DAYLIGHT
BEGIN:STANDARD
TZOFFSETFROM:-0700
TZOFFSETTO:-0800
TZNAME:PST
DTSTART:20221106T090000
END:STANDARD
BEGIN:DAYLIGHT
TZOFFSETFROM:-0800
TZOFFSETTO:-0700
TZNAME:PDT
DTSTART:20230312T100000
END:DAYLIGHT
BEGIN:STANDARD
TZOFFSETFROM:-0700
TZOFFSETTO:-0800
TZNAME:PST
DTSTART:20231105T090000
END:STANDARD
BEGIN:DAYLIGHT
TZOFFSETFROM:-0800
TZOFFSETTO:-0700
TZNAME:PDT
DTSTART:20240310T100000
END:DAYLIGHT
BEGIN:STANDARD
TZOFFSETFROM:-0700
TZOFFSETTO:-0800
TZNAME:PST
DTSTART:20241103T090000
END:STANDARD
END:VTIMEZONE
BEGIN:VEVENT
DTSTART;TZID=America/Los_Angeles:20230324T200000
DTEND;TZID=America/Los_Angeles:20230324T220000
DTSTAMP:20260420T183357
CREATED:20230215T234526Z
LAST-MODIFIED:20230215T234613Z
UID:87278-1679688000-1679695200@tahoeonstage.com
SUMMARY:Selwyn Birchwood
DESCRIPTION:Selwyn Birchwood plays the Sutter Creek Theatre on Friday\, March 24. \nThe rising guitar and lap steel player calls his original music “electric swamp funkin’ blues\,” defined by raw and soulful musicianship played with fire-and-brimstone fervor. His gritty\, unvarnished vocals draw his audience deep inside his unforgettable tales of love\, passion\, pain and pleasure. No other band on the current blues scene is built quite like Birchwood’s. In addition to Selwyn’s electrifying guitar and lap steel playing\, the other featured instrument is Regi Oliver’s driving baritone sax. The group is rounded out by bass\, drums and\, for the first time\, keyboards. \nWanting to capture the power of the now larger band\, Birchwood wrote and arranged 13 new songs for his latest album\, Living In A Burning House\, and brought in famed Grammy Award-winning musician Tom Hambridge (Buddy Guy\, Christone “Kingfish” Ingram\, Susan Tedeschi) to produce. From the rocking opener I’d Climb Mountains to the sweet soul of She’s A Dime and One More Time to the hair-raising Revelation\, Living In A Burning House features some of the most vividly striking writing on today’s blues scene. Birchwood’s voice and vision are clear\, his sound is edgy and compelling\, and his stories are memorable and lasting. \nSince the 2014 release of his Alligator Records debut\, Don’t Call No Ambulance\, Birchwood’s meteoric rise from playing small Florida clubs to headlining international festival stages is nothing short of phenomenal. The album received the Blues Music Award and Living Blues Critics’ Award for Best Debut Album Of 2014\, and he won the 2015 Blues Blast Rising Star Award. Rave reviews ran in publications from Rolling Stone to The Wall Street Journal\, from The Chicago Tribune to The San Francisco Chronicle. \n“A powerhouse player and emotive performer…his band\, his materia
URL:https://tahoeonstage.com/lake-tahoe-reno-event/selwyn-birchwood-3/
LOCATION:Sutter Creek Theatre\, 44 Main Street\, Sutter Creek\, California
ATTACH;FMTTYPE=image/jpeg:https://tahoeonstage.com/wp-content/uploads/2017/11/Regi-Oliver-Selwyn-Birchwood.jpg
END:VEVENT
END:VCALENDAR