BEGIN:VCALENDAR
VERSION:2.0
PRODID:-//Tahoe Onstage | Lake Tahoe music concerts and sports - ECPv6.15.20//NONSGML v1.0//EN
CALSCALE:GREGORIAN
METHOD:PUBLISH
X-ORIGINAL-URL:https://tahoeonstage.com
X-WR-CALDESC:Events for Tahoe Onstage | Lake Tahoe music concerts and sports
REFRESH-INTERVAL;VALUE=DURATION:PT1H
X-Robots-Tag:noindex
X-PUBLISHED-TTL:PT1H
BEGIN:VTIMEZONE
TZID:America/Los_Angeles
BEGIN:DAYLIGHT
TZOFFSETFROM:-0800
TZOFFSETTO:-0700
TZNAME:PDT
DTSTART:20220313T100000
END:DAYLIGHT
BEGIN:STANDARD
TZOFFSETFROM:-0700
TZOFFSETTO:-0800
TZNAME:PST
DTSTART:20221106T090000
END:STANDARD
BEGIN:DAYLIGHT
TZOFFSETFROM:-0800
TZOFFSETTO:-0700
TZNAME:PDT
DTSTART:20230312T100000
END:DAYLIGHT
BEGIN:STANDARD
TZOFFSETFROM:-0700
TZOFFSETTO:-0800
TZNAME:PST
DTSTART:20231105T090000
END:STANDARD
BEGIN:DAYLIGHT
TZOFFSETFROM:-0800
TZOFFSETTO:-0700
TZNAME:PDT
DTSTART:20240310T100000
END:DAYLIGHT
BEGIN:STANDARD
TZOFFSETFROM:-0700
TZOFFSETTO:-0800
TZNAME:PST
DTSTART:20241103T090000
END:STANDARD
END:VTIMEZONE
BEGIN:VEVENT
DTSTART;TZID=America/Los_Angeles:20230317T200000
DTEND;TZID=America/Los_Angeles:20230317T220000
DTSTAMP:20260420T183407
CREATED:20230120T193806Z
LAST-MODIFIED:20230120T194610Z
UID:87128-1679083200-1679090400@tahoeonstage.com
SUMMARY:Albert Cummings
DESCRIPTION:Northeast bluesman Albert Cummings makes a rare Northern California appearance March 17 at Sutter Creek Theatre. Doors at 7:30 show at 8 pm. Open seating\, beer and wine available. \nPress: \nIn the trajectory of watching great musicians develop\, there is no set timetable. Some appear full-blown right from the start\, and others can take a whole career to get to that elevated place. Albert Cummings arrived strong right at the beginning and has kept growing over a course of endless tours and nine previous albums\, right up to today with the release of the album TEN. It’s the kind of recording that shows exactly why all the accolades and excitement have been deserved. Now\, it’s an irrevocable truth that the musician has made his full-on breakthrough. And it comes at exactly the perfect time\, when the world is looking into what might be in store past the challenging experience of the pandemic for the last two years. Music\, being one of the world’s tried and true joys of life\, has always had a way of bringing healing and inspiration to listeners\, and at no time in recent decades has it been needed more than now. \nThis is a singer and guitarist who has played with many of the greatest players of the modern era\, and received the kind of awards and recognition that few others do. Raised in Massachusetts and self-taught on the banjo\, it was a 1987 concert by Stevie Ray Vaughan and Double Trouble that opened Cummings to a new world of modern blues and inspired him to take up the guitar. It didn’t take long from there for him to find his way to the front of the pack. In fact\, Albert Cummings’ very first album FROM THE HEART (2003) was produced by Double Trouble’s Chris Layton and Tommy Shannon and included the group’s Reese Wynans on keyboards. That had not happened before Cummings’ release. \n“A barrage of guitar pyrotechnics that calls to mind a grand mix of the styles of past masters like Albert King\, Freddie King\, Stevie Ray Vaughn and Jimi Hendrix.” – Bluesprint Magazine \n“Though Albert always walks a fine line between rock and blues\, he demonstrates effortlessly that the blues makes everybody feel great.” – Bostonblues.com \n“The blues is best served up live\, with an enthusiastic audience and a killin’ band\, and that’s exactly what guitarist Albert Cummings does.” – Guitar Edge Magazine \nThe award winning historic Sutter Creek Theatre is an intimate 215 seat former silent film theatre with superb sound. Voted Best Indie Theatre mulitiple times (KCRA A-List).
URL:https://tahoeonstage.com/lake-tahoe-reno-event/albert-cummings/
LOCATION:Sutter Creek Theatre\, 44 Main Street\, Sutter Creek\, California
ATTACH;FMTTYPE=image/jpeg:https://tahoeonstage.com/wp-content/uploads/2023/01/Albert-Cummings.jpg
END:VEVENT
END:VCALENDAR